BEGIN:VCALENDAR
VERSION:2.0
PRODID:-//AERO-CLUB Teuschnitz  e.V. - ECPv6.15.18//NONSGML v1.0//EN
CALSCALE:GREGORIAN
METHOD:PUBLISH
X-ORIGINAL-URL:https://acteuschnitz.de
X-WR-CALDESC:Veranstaltungen für AERO-CLUB Teuschnitz  e.V.
REFRESH-INTERVAL;VALUE=DURATION:PT1H
X-Robots-Tag:noindex
X-PUBLISHED-TTL:PT1H
BEGIN:VTIMEZONE
TZID:Europe/Berlin
BEGIN:DAYLIGHT
TZOFFSETFROM:+0100
TZOFFSETTO:+0200
TZNAME:CEST
DTSTART:20220327T010000
END:DAYLIGHT
BEGIN:STANDARD
TZOFFSETFROM:+0200
TZOFFSETTO:+0100
TZNAME:CET
DTSTART:20221030T010000
END:STANDARD
BEGIN:DAYLIGHT
TZOFFSETFROM:+0100
TZOFFSETTO:+0200
TZNAME:CEST
DTSTART:20230326T010000
END:DAYLIGHT
BEGIN:STANDARD
TZOFFSETFROM:+0200
TZOFFSETTO:+0100
TZNAME:CET
DTSTART:20231029T010000
END:STANDARD
BEGIN:DAYLIGHT
TZOFFSETFROM:+0100
TZOFFSETTO:+0200
TZNAME:CEST
DTSTART:20240331T010000
END:DAYLIGHT
BEGIN:STANDARD
TZOFFSETFROM:+0200
TZOFFSETTO:+0100
TZNAME:CET
DTSTART:20241027T010000
END:STANDARD
END:VTIMEZONE
BEGIN:VEVENT
DTSTART;TZID=Europe/Berlin:20230819T110000
DTEND;TZID=Europe/Berlin:20230820T170000
DTSTAMP:20260421T005019
CREATED:20230814T105631Z
LAST-MODIFIED:20230814T144255Z
UID:293-1692442800-1692550800@acteuschnitz.de
SUMMARY:Modellflugtag Sonneberg
DESCRIPTION:
URL:https://acteuschnitz.de/event/modelllugtag-sonneberg/
LOCATION:Modellflugplatz Neustadt bei Coburg\, 859J+JHX Föritztal\, Deutschland\, Thüringen\, 96524\, Deutschland
ATTACH;FMTTYPE=image/jpeg:https://acteuschnitz.de/wp-content/uploads/2023/08/Flugtag-Sonneberg.jpg
END:VEVENT
END:VCALENDAR