BEGIN:VCALENDAR
VERSION:2.0
PRODID:-//AERO-CLUB Teuschnitz  e.V. - ECPv6.15.18//NONSGML v1.0//EN
CALSCALE:GREGORIAN
METHOD:PUBLISH
X-ORIGINAL-URL:https://acteuschnitz.de
X-WR-CALDESC:Veranstaltungen für AERO-CLUB Teuschnitz  e.V.
REFRESH-INTERVAL;VALUE=DURATION:PT1H
X-Robots-Tag:noindex
X-PUBLISHED-TTL:PT1H
BEGIN:VTIMEZONE
TZID:Europe/Berlin
BEGIN:DAYLIGHT
TZOFFSETFROM:+0100
TZOFFSETTO:+0200
TZNAME:CEST
DTSTART:20230326T010000
END:DAYLIGHT
BEGIN:STANDARD
TZOFFSETFROM:+0200
TZOFFSETTO:+0100
TZNAME:CET
DTSTART:20231029T010000
END:STANDARD
BEGIN:DAYLIGHT
TZOFFSETFROM:+0100
TZOFFSETTO:+0200
TZNAME:CEST
DTSTART:20240331T010000
END:DAYLIGHT
BEGIN:STANDARD
TZOFFSETFROM:+0200
TZOFFSETTO:+0100
TZNAME:CET
DTSTART:20241027T010000
END:STANDARD
BEGIN:DAYLIGHT
TZOFFSETFROM:+0100
TZOFFSETTO:+0200
TZNAME:CEST
DTSTART:20250330T010000
END:DAYLIGHT
BEGIN:STANDARD
TZOFFSETFROM:+0200
TZOFFSETTO:+0100
TZNAME:CET
DTSTART:20251026T010000
END:STANDARD
END:VTIMEZONE
BEGIN:VEVENT
DTSTART;TZID=Europe/Berlin:20241201T073000
DTEND;TZID=Europe/Berlin:20241201T140000
DTSTAMP:20260419T230636
CREATED:20241002T073202Z
LAST-MODIFIED:20241002T073202Z
UID:1192-1733038200-1733061600@acteuschnitz.de
SUMMARY:Modellbauausstellung mit Modellbörse in Kemnath
DESCRIPTION:
URL:https://acteuschnitz.de/event/modellbauausstellung-mit-modellboerse-in-kemnath/
END:VEVENT
END:VCALENDAR