BEGIN:VCALENDAR
VERSION:2.0
PRODID:-//AERO-CLUB Teuschnitz  e.V. - ECPv6.15.18//NONSGML v1.0//EN
CALSCALE:GREGORIAN
METHOD:PUBLISH
X-WR-CALNAME:AERO-CLUB Teuschnitz  e.V.
X-ORIGINAL-URL:https://acteuschnitz.de
X-WR-CALDESC:Veranstaltungen für AERO-CLUB Teuschnitz  e.V.
REFRESH-INTERVAL;VALUE=DURATION:PT1H
X-Robots-Tag:noindex
X-PUBLISHED-TTL:PT1H
BEGIN:VTIMEZONE
TZID:Europe/Berlin
BEGIN:DAYLIGHT
TZOFFSETFROM:+0100
TZOFFSETTO:+0200
TZNAME:CEST
DTSTART:20250330T010000
END:DAYLIGHT
BEGIN:STANDARD
TZOFFSETFROM:+0200
TZOFFSETTO:+0100
TZNAME:CET
DTSTART:20251026T010000
END:STANDARD
BEGIN:DAYLIGHT
TZOFFSETFROM:+0100
TZOFFSETTO:+0200
TZNAME:CEST
DTSTART:20260329T010000
END:DAYLIGHT
BEGIN:STANDARD
TZOFFSETFROM:+0200
TZOFFSETTO:+0100
TZNAME:CET
DTSTART:20261025T010000
END:STANDARD
BEGIN:DAYLIGHT
TZOFFSETFROM:+0100
TZOFFSETTO:+0200
TZNAME:CEST
DTSTART:20270328T010000
END:DAYLIGHT
BEGIN:STANDARD
TZOFFSETFROM:+0200
TZOFFSETTO:+0100
TZNAME:CET
DTSTART:20271031T010000
END:STANDARD
END:VTIMEZONE
BEGIN:VEVENT
DTSTART;VALUE=DATE:20260424
DTEND;VALUE=DATE:20260427
DTSTAMP:20260419T211512
CREATED:20260227T123100Z
LAST-MODIFIED:20260227T123100Z
UID:1768-1776988800-1777247999@acteuschnitz.de
SUMMARY:Pro Wing Soest
DESCRIPTION:
URL:https://acteuschnitz.de/event/pro-wing-soest/
END:VEVENT
BEGIN:VEVENT
DTSTART;TZID=Europe/Berlin:20260514T100000
DTEND;TZID=Europe/Berlin:20260514T170000
DTSTAMP:20260419T211512
CREATED:20260227T120351Z
LAST-MODIFIED:20260227T120351Z
UID:1751-1778752800-1778778000@acteuschnitz.de
SUMMARY:Himmelfahrtsfliegen MFC Geschwenda
DESCRIPTION:
URL:https://acteuschnitz.de/event/himmelfahrtsfliegen-mfc-geschwenda/
END:VEVENT
BEGIN:VEVENT
DTSTART;TZID=Europe/Berlin:20260525T120000
DTEND;TZID=Europe/Berlin:20260525T200000
DTSTAMP:20260419T211512
CREATED:20260227T120703Z
LAST-MODIFIED:20260227T120703Z
UID:1757-1779710400-1779739200@acteuschnitz.de
SUMMARY:Familiennachmittag (intern)
DESCRIPTION:
URL:https://acteuschnitz.de/event/familiennachmittag-intern/
END:VEVENT
BEGIN:VEVENT
DTSTART;TZID=Europe/Berlin:20260613T100000
DTEND;TZID=Europe/Berlin:20260614T200000
DTSTAMP:20260419T211512
CREATED:20260227T120239Z
LAST-MODIFIED:20260227T120239Z
UID:1748-1781344800-1781467200@acteuschnitz.de
SUMMARY:Modellflugtage Stappenbach
DESCRIPTION:
URL:https://acteuschnitz.de/event/modellflugtage-stappenbach-2/
END:VEVENT
BEGIN:VEVENT
DTSTART;VALUE=DATE:20260627
DTEND;VALUE=DATE:20260629
DTSTAMP:20260419T211512
CREATED:20260227T120822Z
LAST-MODIFIED:20260227T120822Z
UID:1759-1782518400-1782691199@acteuschnitz.de
SUMMARY:Flugtag Aero-Club Teuschnitz e.V.
DESCRIPTION:
URL:https://acteuschnitz.de/event/flugtag-aero-club-teuschnitz-e-v/
CATEGORIES:Flugtag,Freundschaftsfliegen,Tradition
END:VEVENT
BEGIN:VEVENT
DTSTART;VALUE=DATE:20260704
DTEND;VALUE=DATE:20260705
DTSTAMP:20260419T211512
CREATED:20260227T123946Z
LAST-MODIFIED:20260227T123946Z
UID:1778-1783123200-1783209599@acteuschnitz.de
SUMMARY:Helitreffen MSG Hassberge
DESCRIPTION:
URL:https://acteuschnitz.de/event/helitreffen-msg-hassberge/
END:VEVENT
BEGIN:VEVENT
DTSTART;TZID=Europe/Berlin:20260704T100000
DTEND;TZID=Europe/Berlin:20260704T170000
DTSTAMP:20260419T211512
CREATED:20260227T120523Z
LAST-MODIFIED:20260227T120523Z
UID:1754-1783159200-1783184400@acteuschnitz.de
SUMMARY:Modellflugshow MFC Geschwenda
DESCRIPTION:
URL:https://acteuschnitz.de/event/modellflugshow-mfc-geschwenda/
END:VEVENT
BEGIN:VEVENT
DTSTART;VALUE=DATE:20260710
DTEND;VALUE=DATE:20260712
DTSTAMP:20260419T211512
CREATED:20260227T123226Z
LAST-MODIFIED:20260227T123226Z
UID:1770-1783641600-1783814399@acteuschnitz.de
SUMMARY:Segelflugmesse MFC Schwabmünchen
DESCRIPTION:
URL:https://acteuschnitz.de/event/segelflugmesse-mfc-schwabmuenchen/
END:VEVENT
BEGIN:VEVENT
DTSTART;VALUE=DATE:20260815
DTEND;VALUE=DATE:20260817
DTSTAMP:20260419T211512
CREATED:20260227T123327Z
LAST-MODIFIED:20260227T123327Z
UID:1772-1786752000-1786924799@acteuschnitz.de
SUMMARY:Retro Fliegen MFC Neustadt-Sonneberg
DESCRIPTION:
URL:https://acteuschnitz.de/event/retro-fliegen-mfc-neustadt-sonneberg/
END:VEVENT
BEGIN:VEVENT
DTSTART;VALUE=DATE:20260826
DTEND;VALUE=DATE:20260831
DTSTAMP:20260419T211512
CREATED:20260227T123900Z
LAST-MODIFIED:20260227T123900Z
UID:1776-1787702400-1788134399@acteuschnitz.de
SUMMARY:Flugplatzfest Kahla
DESCRIPTION:
URL:https://acteuschnitz.de/event/flugplatzfest-kahla/
END:VEVENT
BEGIN:VEVENT
DTSTART;VALUE=DATE:20260912
DTEND;VALUE=DATE:20260913
DTSTAMP:20260419T211512
CREATED:20260227T123524Z
LAST-MODIFIED:20260227T123524Z
UID:1774-1789171200-1789257599@acteuschnitz.de
SUMMARY:Flugtag\, 50 Jahre MSG Hassberge e.V.
DESCRIPTION:
URL:https://acteuschnitz.de/event/flugtag-50-jahre-msg-hassberge-e-v/
END:VEVENT
BEGIN:VEVENT
DTSTART;VALUE=DATE:20260913
DTEND;VALUE=DATE:20260914
DTSTAMP:20260419T211512
CREATED:20260227T120900Z
LAST-MODIFIED:20260227T120900Z
UID:1761-1789257600-1789343999@acteuschnitz.de
SUMMARY:Jettreffen Aero-Club Teuschnitz e.V.
DESCRIPTION:
URL:https://acteuschnitz.de/event/jettreffen-aero-club-teuschnitz-e-v/
CATEGORIES:Freundschaftsfliegen,Tradition
END:VEVENT
END:VCALENDAR