BEGIN:VCALENDAR
VERSION:2.0
PRODID:-//AERO-CLUB Teuschnitz  e.V. - ECPv6.15.18//NONSGML v1.0//EN
CALSCALE:GREGORIAN
METHOD:PUBLISH
X-WR-CALNAME:AERO-CLUB Teuschnitz  e.V.
X-ORIGINAL-URL:https://acteuschnitz.de
X-WR-CALDESC:Veranstaltungen für AERO-CLUB Teuschnitz  e.V.
REFRESH-INTERVAL;VALUE=DURATION:PT1H
X-Robots-Tag:noindex
X-PUBLISHED-TTL:PT1H
BEGIN:VTIMEZONE
TZID:Europe/Berlin
BEGIN:DAYLIGHT
TZOFFSETFROM:+0100
TZOFFSETTO:+0200
TZNAME:CEST
DTSTART:20230326T010000
END:DAYLIGHT
BEGIN:STANDARD
TZOFFSETFROM:+0200
TZOFFSETTO:+0100
TZNAME:CET
DTSTART:20231029T010000
END:STANDARD
BEGIN:DAYLIGHT
TZOFFSETFROM:+0100
TZOFFSETTO:+0200
TZNAME:CEST
DTSTART:20240331T010000
END:DAYLIGHT
BEGIN:STANDARD
TZOFFSETFROM:+0200
TZOFFSETTO:+0100
TZNAME:CET
DTSTART:20241027T010000
END:STANDARD
BEGIN:DAYLIGHT
TZOFFSETFROM:+0100
TZOFFSETTO:+0200
TZNAME:CEST
DTSTART:20250330T010000
END:DAYLIGHT
BEGIN:STANDARD
TZOFFSETFROM:+0200
TZOFFSETTO:+0100
TZNAME:CET
DTSTART:20251026T010000
END:STANDARD
END:VTIMEZONE
BEGIN:VEVENT
DTSTART;VALUE=DATE:20240507
DTEND;VALUE=DATE:20240512
DTSTAMP:20260420T092349
CREATED:20240223T095025Z
LAST-MODIFIED:20240223T095025Z
UID:1068-1715040000-1715471999@acteuschnitz.de
SUMMARY:Days of Speed an Thunder Rothenburg
DESCRIPTION:
URL:https://acteuschnitz.de/event/days-of-speed-an-thunder-rothenburg/
END:VEVENT
BEGIN:VEVENT
DTSTART;VALUE=DATE:20240509
DTEND;VALUE=DATE:20240513
DTSTAMP:20260420T092349
CREATED:20240125T093551Z
LAST-MODIFIED:20240125T093551Z
UID:1023-1715212800-1715558399@acteuschnitz.de
SUMMARY:Pittstreffen MFC Stadtsteinach e.V.
DESCRIPTION:
URL:https://acteuschnitz.de/event/pittstreffen-mfc-stadtsteinach-e-v/
END:VEVENT
BEGIN:VEVENT
DTSTART;VALUE=DATE:20240518
DTEND;VALUE=DATE:20240520
DTSTAMP:20260420T092349
CREATED:20240125T093443Z
LAST-MODIFIED:20240125T093629Z
UID:1021-1715990400-1716163199@acteuschnitz.de
SUMMARY:GPS-Triangle EUROTOUR Burgkunstadt
DESCRIPTION:
URL:https://acteuschnitz.de/event/gps-triangle-eurotour-burgkunstadt/
END:VEVENT
BEGIN:VEVENT
DTSTART;VALUE=DATE:20240525
DTEND;VALUE=DATE:20240527
DTSTAMP:20260420T092349
CREATED:20240223T110725Z
LAST-MODIFIED:20240223T110725Z
UID:1070-1716595200-1716767999@acteuschnitz.de
SUMMARY:Freundschaftsfliegen Hollfeld
DESCRIPTION:
URL:https://acteuschnitz.de/event/freundschaftsfliegen-hollfeld/
END:VEVENT
END:VCALENDAR