BEGIN:VCALENDAR
VERSION:2.0
PRODID:-//AERO-CLUB Teuschnitz  e.V. - ECPv6.15.18//NONSGML v1.0//EN
CALSCALE:GREGORIAN
METHOD:PUBLISH
X-ORIGINAL-URL:https://acteuschnitz.de
X-WR-CALDESC:Veranstaltungen für AERO-CLUB Teuschnitz  e.V.
REFRESH-INTERVAL;VALUE=DURATION:PT1H
X-Robots-Tag:noindex
X-PUBLISHED-TTL:PT1H
BEGIN:VTIMEZONE
TZID:Europe/Berlin
BEGIN:DAYLIGHT
TZOFFSETFROM:+0100
TZOFFSETTO:+0200
TZNAME:CEST
DTSTART:20230326T010000
END:DAYLIGHT
BEGIN:STANDARD
TZOFFSETFROM:+0200
TZOFFSETTO:+0100
TZNAME:CET
DTSTART:20231029T010000
END:STANDARD
BEGIN:DAYLIGHT
TZOFFSETFROM:+0100
TZOFFSETTO:+0200
TZNAME:CEST
DTSTART:20240331T010000
END:DAYLIGHT
BEGIN:STANDARD
TZOFFSETFROM:+0200
TZOFFSETTO:+0100
TZNAME:CET
DTSTART:20241027T010000
END:STANDARD
BEGIN:DAYLIGHT
TZOFFSETFROM:+0100
TZOFFSETTO:+0200
TZNAME:CEST
DTSTART:20250330T010000
END:DAYLIGHT
BEGIN:STANDARD
TZOFFSETFROM:+0200
TZOFFSETTO:+0100
TZNAME:CET
DTSTART:20251026T010000
END:STANDARD
END:VTIMEZONE
BEGIN:VEVENT
DTSTART;VALUE=DATE:20240913
DTEND;VALUE=DATE:20240916
DTSTAMP:20260420T023127
CREATED:20240223T094327Z
LAST-MODIFIED:20240223T094327Z
UID:1064-1726185600-1726444799@acteuschnitz.de
SUMMARY:Jet Power Breitscheid
DESCRIPTION:
URL:https://acteuschnitz.de/event/jet-power-breitscheid/
END:VEVENT
BEGIN:VEVENT
DTSTART;VALUE=DATE:20240915
DTEND;VALUE=DATE:20240916
DTSTAMP:20260420T023127
CREATED:20240403T090454Z
LAST-MODIFIED:20240729T072148Z
UID:1091-1726358400-1726444799@acteuschnitz.de
SUMMARY:Freundschaftsfliegen beim AERO-CLUB Teuschnitz e.V.
DESCRIPTION:Am Sonntag\, den 15.Septemeber ist es so weit\, 60 Jahre Aero-Club Teuschnitz! \n 
URL:https://acteuschnitz.de/event/freundschaftsfliegen-beim-aero-club-teuschnitz-e-v/
ATTACH;FMTTYPE=application/pdf:https://acteuschnitz.de/wp-content/uploads/2024/04/fertig-druck-PDF-hoch-Plakat-60.pdf
END:VEVENT
BEGIN:VEVENT
DTSTART;VALUE=DATE:20240928
DTEND;VALUE=DATE:20240929
DTSTAMP:20260420T023127
CREATED:20240125T093823Z
LAST-MODIFIED:20240125T093823Z
UID:1027-1727481600-1727567999@acteuschnitz.de
SUMMARY:Freundschaftsfliegen MFG Stadtsteinach e.V.
DESCRIPTION:
URL:https://acteuschnitz.de/event/freundschaftsfliegen-mfg-stadtsteinach-e-v/
END:VEVENT
END:VCALENDAR