BEGIN:VCALENDAR
VERSION:2.0
PRODID:-//AERO-CLUB Teuschnitz  e.V. - ECPv6.15.18//NONSGML v1.0//EN
CALSCALE:GREGORIAN
METHOD:PUBLISH
X-ORIGINAL-URL:https://acteuschnitz.de
X-WR-CALDESC:Veranstaltungen für AERO-CLUB Teuschnitz  e.V.
REFRESH-INTERVAL;VALUE=DURATION:PT1H
X-Robots-Tag:noindex
X-PUBLISHED-TTL:PT1H
BEGIN:VTIMEZONE
TZID:UTC
BEGIN:STANDARD
TZOFFSETFROM:+0000
TZOFFSETTO:+0000
TZNAME:UTC
DTSTART:20220101T000000
END:STANDARD
END:VTIMEZONE
BEGIN:VEVENT
DTSTART;TZID=UTC:20230812T100000
DTEND;TZID=UTC:20230812T220000
DTSTAMP:20260421T045956
CREATED:20230810T073948Z
LAST-MODIFIED:20230814T133431Z
UID:92-1691834400-1691877600@acteuschnitz.de
SUMMARY:Freundschaftsfliegen beim MFG Steinberg
DESCRIPTION:
URL:https://acteuschnitz.de/event/freundschaftsfliegen-beim-mfg-steinberg/
LOCATION:Modellflugplatz Steinberg\, 79G4+R3 Wilhelmsthal\, Steinberg\, Bayern\, 96352\, Deutschland
CATEGORIES:Freundschaftsfliegen
ATTACH;FMTTYPE=image/jpeg:https://acteuschnitz.de/wp-content/uploads/2023/08/Foto-10.08.23-11-30-26.jpg
END:VEVENT
END:VCALENDAR